{
 "currentVersion": 11.3,
 "cimVersion": "3.3.0",
 "serviceDescription": " Ortofotomapa Moravskoslezského kraje 2003<\/span><\/p><\/div><\/div><\/div>",
 "mapName": "Layers",
 "description": "Ortofotomapa Moravskoslezského kraje 2003",
 "copyrightText": "© GEODIS BRNO, s. r. o.",
 "supportsDynamicLayers": true,
 "layers": [
  {
   "id": 0,
   "name": "Ortofoto 2003",
   "parentLayerId": -1,
   "defaultVisibility": true,
   "subLayerIds": null,
   "minScale": 0,
   "maxScale": 0,
   "type": "Feature Layer",
   "geometryType": "esriGeometryPolygon",
   "supportsDynamicLegends": true
  }
 ],
 "tables": [],
 "spatialReference": {
  "wkid": 102067,
  "latestWkid": 5514,
  "xyTolerance": 0.001,
  "zTolerance": 2.0E-4,
  "mTolerance": 2.0E-4,
  "falseX": -33699800,
  "falseY": -33699800,
  "xyUnits": 1.3363876424698351E8,
  "falseZ": -100000,
  "zUnits": 10000,
  "falseM": -100000,
  "mUnits": 10000
 },
 "singleFusedMapCache": true,
 "tileInfo": {
  "rows": 256,
  "cols": 256,
  "dpi": 96,
  "format": "MIXED",
  "compressionQuality": 55,
  "origin": {
   "x": -33699800,
   "y": 33699800
  },
  "spatialReference": {
   "wkid": 102067,
   "latestWkid": 5514,
   "xyTolerance": 0.001,
   "zTolerance": 2.0E-4,
   "mTolerance": 2.0E-4,
   "falseX": -33699800,
   "falseY": -33699800,
   "xyUnits": 1.3363876424698351E8,
   "falseZ": -100000,
   "zUnits": 10000,
   "falseM": -100000,
   "mUnits": 10000
  },
  "lods": [
   {
    "level": 0,
    "resolution": 1024.1300482600966,
    "scale": 3870720
   },
   {
    "level": 1,
    "resolution": 512.0650241300483,
    "scale": 1935360
   },
   {
    "level": 2,
    "resolution": 256.03251206502415,
    "scale": 967680
   },
   {
    "level": 3,
    "resolution": 128.01625603251208,
    "scale": 483840
   },
   {
    "level": 4,
    "resolution": 64.00812801625604,
    "scale": 241920
   },
   {
    "level": 5,
    "resolution": 32.00406400812802,
    "scale": 120960
   },
   {
    "level": 6,
    "resolution": 16.00203200406401,
    "scale": 60480
   },
   {
    "level": 7,
    "resolution": 8.001016002032005,
    "scale": 30240
   },
   {
    "level": 8,
    "resolution": 4.000508001016002,
    "scale": 15120
   },
   {
    "level": 9,
    "resolution": 2.000254000508001,
    "scale": 7560
   },
   {
    "level": 10,
    "resolution": 1.0001270002540006,
    "scale": 3780
   },
   {
    "level": 11,
    "resolution": 0.5000635001270003,
    "scale": 1890
   },
   {
    "level": 12,
    "resolution": 0.25003175006350015,
    "scale": 945
   },
   {
    "level": 13,
    "resolution": 0.1251481669630006,
    "scale": 473
   }
  ]
 },
 "storageInfo": {
  "storageFormat": "esriMapCacheStorageModeCompactV2",
  "packetSize": 128
 },
 "initialExtent": {
  "xmin": -551471.7399999984,
  "ymin": -1199986.4580819951,
  "xmax": -431724.30000000075,
  "ymax": -994801.8719180031,
  "spatialReference": {
   "wkid": 102067,
   "latestWkid": 5514,
   "xyTolerance": 0.001,
   "zTolerance": 2.0E-4,
   "mTolerance": 2.0E-4,
   "falseX": -33699800,
   "falseY": -33699800,
   "xyUnits": 1.3363876424698351E8,
   "falseZ": -100000,
   "zUnits": 10000,
   "falseM": -100000,
   "mUnits": 10000
  }
 },
 "fullExtent": {
  "xmin": -551471.7399999984,
  "ymin": -1151593.1099999994,
  "xmax": -431724.30000000075,
  "ymax": -1043195.2199999988,
  "spatialReference": {
   "wkid": 102067,
   "latestWkid": 5514,
   "xyTolerance": 0.001,
   "zTolerance": 2.0E-4,
   "mTolerance": 2.0E-4,
   "falseX": -33699800,
   "falseY": -33699800,
   "xyUnits": 1.3363876424698351E8,
   "falseZ": -100000,
   "zUnits": 10000,
   "falseM": -100000,
   "mUnits": 10000
  }
 },
 "datesInUnknownTimezone": false,
 "minScale": 3870720,
 "maxScale": 945,
 "minLOD": 0,
 "maxLOD": 12,
 "units": "esriMeters",
 "supportedImageFormatTypes": "PNG32,PNG24,PNG,JPG,DIB,TIFF,EMF,PS,PDF,GIF,SVG,SVGZ,BMP",
 "documentInfo": {
  "Title": "Ortofotomapa Moravskoslezského kraje 2003",
  "Author": "",
  "Comments": "Ortofotomapa Moravskoslezského kraje 2003",
  "Subject": "Ortofotomapa Moravskoslezského kraje 2003",
  "Category": "",
  "Version": "3.3.0",
  "AntialiasingMode": "Fast",
  "TextAntialiasingMode": "Force",
  "Keywords": "ortofotomapa,2003,msk"
 },
 "supportsQueryDomains": true,
 "capabilities": "Map,Query,Data",
 "supportedQueryFormats": "JSON, geoJSON, PBF",
 "exportTilesAllowed": false,
 "referenceScale": 0.0,
 "supportsDatumTransformation": true,
 "floorAwareMapProperties": {
  "defaultFloorFilterSettings": {
   "isEnabled": false
  }
 },
 "archivingInfo": {
  "supportsHistoricMoment": false
 },
 "supportsClipping": true,
 "supportsSpatialFilter": true,
 "supportsTimeRelation": true,
 "supportsQueryDataElements": true,
 "mapUnits": {
  "uwkid": 9001
 },
 "maxRecordCount": 2000,
 "maxImageHeight": 4096,
 "maxImageWidth": 4096,
 "supportedExtensions": "WMSServer",
 "serviceItemId": "3383b9a73e6a4b848dc9b0cde5612438"
}
