{
 "currentVersion": 11.3,
 "cimVersion": "3.3.0",
 "serviceDescription": " Aktualizace č. 3 Zásad územního rozvoje Moravskoslezského kraje (2022) A.4 Výkres veřejně prospěšných staveb a veřejně prospěšných opatření<\/span><\/p><\/div><\/div>",
 "mapName": "Aktualizace č. 3 ZÚR MSK (návrh)",
 "description": "Aktualizace č. 3 Zásad územního rozvoje Moravskoslezského kraje (2022) A.4 Výkres veřejně prospěšných staveb a veřejně prospěšných opatření",
 "copyrightText": "© MSK",
 "supportsDynamicLayers": true,
 "layers": [
  {
   "id": 0,
   "name": "A.4 Výkres veřejně prospěšných staveb a veřejně prospěšných opatření",
   "parentLayerId": -1,
   "defaultVisibility": true,
   "subLayerIds": null,
   "minScale": 1000000,
   "maxScale": 10000,
   "type": "Raster Layer",
   "supportsDynamicLegends": true
  }
 ],
 "tables": [],
 "spatialReference": {
  "wkid": 102067,
  "latestWkid": 5514,
  "xyTolerance": 0.001,
  "zTolerance": 0.001,
  "mTolerance": 0.001,
  "falseX": -33699800,
  "falseY": -33699800,
  "xyUnits": 1.3363876424698351E8,
  "falseZ": -100000,
  "zUnits": 10000,
  "falseM": -100000,
  "mUnits": 10000
 },
 "singleFusedMapCache": true,
 "tileInfo": {
  "rows": 256,
  "cols": 256,
  "dpi": 96,
  "format": "MIXED",
  "compressionQuality": 75,
  "origin": {
   "x": -33699800,
   "y": 33699800
  },
  "spatialReference": {
   "wkid": 102067,
   "latestWkid": 5514,
   "xyTolerance": 0.001,
   "zTolerance": 2.0E-4,
   "mTolerance": 2.0E-4,
   "falseX": -33699800,
   "falseY": -33699800,
   "xyUnits": 1.3363876424698351E8,
   "falseZ": -100000,
   "zUnits": 10000,
   "falseM": -100000,
   "mUnits": 10000
  },
  "lods": [
   {
    "level": 0,
    "resolution": 256.03251206502415,
    "scale": 967680
   },
   {
    "level": 1,
    "resolution": 128.01625603251208,
    "scale": 483840
   },
   {
    "level": 2,
    "resolution": 64.00812801625604,
    "scale": 241920
   },
   {
    "level": 3,
    "resolution": 32.00406400812802,
    "scale": 120960
   },
   {
    "level": 4,
    "resolution": 16.00203200406401,
    "scale": 60480
   },
   {
    "level": 5,
    "resolution": 8.001016002032005,
    "scale": 30240
   },
   {
    "level": 6,
    "resolution": 4.000508001016002,
    "scale": 15120
   }
  ]
 },
 "storageInfo": {
  "storageFormat": "esriMapCacheStorageModeCompactV2",
  "packetSize": 128
 },
 "initialExtent": {
  "xmin": -551476.7747523293,
  "ymin": -1174391.843076583,
  "xmax": -431715.1403283293,
  "ymax": -1020394.551554583,
  "spatialReference": {
   "wkid": 102067,
   "latestWkid": 5514,
   "xyTolerance": 0.001,
   "zTolerance": 0.001,
   "mTolerance": 0.001,
   "falseX": -33699800,
   "falseY": -33699800,
   "xyUnits": 1.3363876424698351E8,
   "falseZ": -100000,
   "zUnits": 10000,
   "falseM": -100000,
   "mUnits": 10000
  }
 },
 "fullExtent": {
  "xmin": -551476.7747523293,
  "ymin": -1151600.882485583,
  "xmax": -431715.14032832935,
  "ymax": -1043185.5121455829,
  "spatialReference": {
   "wkid": 102067,
   "latestWkid": 5514,
   "xyTolerance": 0.001,
   "zTolerance": 0.001,
   "mTolerance": 0.001,
   "falseX": -33699800,
   "falseY": -33699800,
   "xyUnits": 1.3363876424698351E8,
   "falseZ": -100000,
   "zUnits": 10000,
   "falseM": -100000,
   "mUnits": 10000
  }
 },
 "datesInUnknownTimezone": false,
 "minScale": 0,
 "maxScale": 0,
 "units": "esriMeters",
 "supportedImageFormatTypes": "PNG32,PNG24,PNG,JPG,DIB,TIFF,EMF,PS,PDF,GIF,SVG,SVGZ,BMP",
 "documentInfo": {
  "Title": "Aktualizace č. 3 ZÚR MSK (2022)",
  "Author": "",
  "Comments": "Aktualizace č. 3 Zásad územního rozvoje Moravskoslezského kraje (2022) A.4 Výkres veřejně prospěšných staveb a veřejně prospěšných opatření",
  "Subject": "Aktualizace č. 3 ZÚR MSK (2022) A.4 Výkres veřejně prospěšných staveb a veřejně prospěšných opatření",
  "Category": "",
  "Version": "2.9.0",
  "AntialiasingMode": "Fast",
  "TextAntialiasingMode": "Force",
  "Keywords": "ZÚR,aktualizace,3,MSK,2022"
 },
 "supportsQueryDomains": true,
 "capabilities": "Map,Query,Data",
 "supportedQueryFormats": "JSON, geoJSON, PBF",
 "exportTilesAllowed": false,
 "referenceScale": 0.0,
 "supportsDatumTransformation": true,
 "archivingInfo": {
  "supportsHistoricMoment": false
 },
 "supportsClipping": true,
 "supportsSpatialFilter": true,
 "supportsTimeRelation": true,
 "supportsQueryDataElements": true,
 "mapUnits": {
  "uwkid": 9001
 },
 "maxRecordCount": 2000,
 "maxImageHeight": 4096,
 "maxImageWidth": 4096,
 "supportedExtensions": "WMSServer",
 "resampling": false,
 "serviceItemId": "c86c5c8fd5fd4be281dc963d75b72317"
}
