{
 "currentVersion": 11.3,
 "cimVersion": "3.3.0",
 "serviceDescription": " Aktualizace č. 8b Zásad územního rozvoje Moravskoslezského kraje (2024)<\/span> <\/span>B.3 Srovnávací výkres: Výkres ploch a koridorů, včetně ÚSES<\/span><\/p><\/div><\/div><\/div>",
 "mapName": "Aktualizace č. 8b ZÚR MSK (2024)",
 "description": "Aktualizace č. 8b Zásad územního rozvoje Moravskoslezského kraje (2024) B.3 Srovnávací výkres: Výkres ploch a koridorů, včetně ÚSES",
 "copyrightText": "© MSK",
 "supportsDynamicLayers": true,
 "layers": [
  {
   "id": 0,
   "name": "B.3 Srovnávací výkres: Výkres ploch a koridorů, včetně ÚSES",
   "parentLayerId": -1,
   "defaultVisibility": true,
   "subLayerIds": null,
   "minScale": 0,
   "maxScale": 0,
   "type": "Raster Layer",
   "supportsDynamicLegends": true
  }
 ],
 "tables": [],
 "spatialReference": {
  "wkid": 102067,
  "latestWkid": 5514,
  "xyTolerance": 0.001,
  "zTolerance": 0.001,
  "mTolerance": 0.001,
  "falseX": -33699800,
  "falseY": -33699800,
  "xyUnits": 1.3363876424698351E8,
  "falseZ": -100000,
  "zUnits": 10000,
  "falseM": -100000,
  "mUnits": 10000
 },
 "singleFusedMapCache": true,
 "tileInfo": {
  "rows": 256,
  "cols": 256,
  "dpi": 96,
  "format": "MIXED",
  "compressionQuality": 75,
  "origin": {
   "x": -33699800,
   "y": 33699800
  },
  "spatialReference": {
   "wkid": 102067,
   "latestWkid": 5514,
   "xyTolerance": 0.001,
   "zTolerance": 2.0E-4,
   "mTolerance": 2.0E-4,
   "falseX": -33699800,
   "falseY": -33699800,
   "xyUnits": 1.3363876424698351E8,
   "falseZ": -100000,
   "zUnits": 10000,
   "falseM": -100000,
   "mUnits": 10000
  },
  "lods": [
   {
    "level": 0,
    "resolution": 256.03251206502415,
    "scale": 967680
   },
   {
    "level": 1,
    "resolution": 128.01625603251208,
    "scale": 483840
   },
   {
    "level": 2,
    "resolution": 64.00812801625604,
    "scale": 241920
   },
   {
    "level": 3,
    "resolution": 32.00406400812802,
    "scale": 120960
   },
   {
    "level": 4,
    "resolution": 16.00203200406401,
    "scale": 60480
   },
   {
    "level": 5,
    "resolution": 8.001016002032005,
    "scale": 30240
   },
   {
    "level": 6,
    "resolution": 4.000508001016002,
    "scale": 15120
   }
  ]
 },
 "storageInfo": {
  "storageFormat": "esriMapCacheStorageModeCompactV2",
  "packetSize": 128
 },
 "initialExtent": {
  "xmin": -495924.1846097966,
  "ymin": -1150355.4193508988,
  "xmax": -458194.9054397966,
  "ymax": -1079496.0913229445,
  "spatialReference": {
   "wkid": 102067,
   "latestWkid": 5514,
   "xyTolerance": 0.001,
   "zTolerance": 0.001,
   "mTolerance": 0.001,
   "falseX": -33699800,
   "falseY": -33699800,
   "xyUnits": 1.3363876424698351E8,
   "falseZ": -100000,
   "zUnits": 10000,
   "falseM": -100000,
   "mUnits": 10000
  }
 },
 "fullExtent": {
  "xmin": -495924.1846097966,
  "ymin": -1128709.0105219218,
  "xmax": -458194.9054397966,
  "ymax": -1101142.5001519218,
  "spatialReference": {
   "wkid": 102067,
   "latestWkid": 5514,
   "xyTolerance": 0.001,
   "zTolerance": 0.001,
   "mTolerance": 0.001,
   "falseX": -33699800,
   "falseY": -33699800,
   "xyUnits": 1.3363876424698351E8,
   "falseZ": -100000,
   "zUnits": 10000,
   "falseM": -100000,
   "mUnits": 10000
  }
 },
 "datesInUnknownTimezone": false,
 "minScale": 967680,
 "maxScale": 15120,
 "minLOD": 0,
 "maxLOD": 6,
 "units": "esriMeters",
 "supportedImageFormatTypes": "PNG32,PNG24,PNG,JPG,DIB,TIFF,EMF,PS,PDF,GIF,SVG,SVGZ,BMP",
 "documentInfo": {
  "Title": "Aktualizace č. 8b ZÚR MSK (2024)",
  "Author": "",
  "Comments": "Aktualizace č. 8b Zásad územního rozvoje Moravskoslezského kraje (2024) B.3 Srovnávací výkres: Výkres ploch a koridorů, včetně ÚSES",
  "Subject": "Aktualizace č. 8b ZÚR MSK (2024) B.3 Srovnávací výkres: Výkres ploch a koridorů, včetně ÚSES",
  "Category": "",
  "Version": "3.3.0",
  "AntialiasingMode": "Fast",
  "TextAntialiasingMode": "Force",
  "Keywords": "ZÚR,aktualizace,8b,MSK,2024"
 },
 "supportsQueryDomains": true,
 "capabilities": "Map,Query,Data",
 "supportedQueryFormats": "JSON, geoJSON, PBF",
 "exportTilesAllowed": false,
 "referenceScale": 0.0,
 "supportsDatumTransformation": true,
 "floorAwareMapProperties": {
  "defaultFloorFilterSettings": {
   "isEnabled": false
  }
 },
 "archivingInfo": {
  "supportsHistoricMoment": false
 },
 "supportsClipping": true,
 "supportsSpatialFilter": true,
 "supportsTimeRelation": true,
 "supportsQueryDataElements": true,
 "mapUnits": {
  "uwkid": 9001
 },
 "maxRecordCount": 2000,
 "maxImageHeight": 4096,
 "maxImageWidth": 4096,
 "supportedExtensions": "WMSServer",
 "serviceItemId": "c465acaa35004b028cdf69bc45d69b90"
}
