<?xml version="1.0" encoding="UTF-8"?>
<Capabilities xmlns="http://www.opengis.net/wmts/1.0"
xmlns:ows="http://www.opengis.net/ows/1.1"
xmlns:xlink="http://www.w3.org/1999/xlink"
xmlns:xsi="http://www.w3.org/2001/XMLSchema-instance"
xmlns:gml="http://www.opengis.net/gml"
xsi:schemaLocation="http://www.opengis.net/wmts/1.0 http://schemas.opengis.net/wmts/1.0/wmtsGetCapabilities_response.xsd"
version="1.0.0">
<!-- Service Identification --> <ows:ServiceIdentification>
<ows:Title>UP_UP_08_PredpokladaneZaboryZPF</ows:Title>
<ows:ServiceType>OGC WMTS</ows:ServiceType>
<ows:ServiceTypeVersion>1.0.0</ows:ServiceTypeVersion>
</ows:ServiceIdentification> <!-- Operations Metadata --> <ows:OperationsMetadata>
<ows:Operation name="GetCapabilities">
<ows:DCP>
<ows:HTTP>
<ows:Get xlink:href="https://gis2.msk.cz/arcgis/rest/services/UP/UP_08_PredpokladaneZaboryZPF/MapServer/WMTS/1.0.0/WMTSCapabilities.xml">
<ows:Constraint name="GetEncoding">
<ows:AllowedValues>
<ows:Value>RESTful</ows:Value>
</ows:AllowedValues>
</ows:Constraint>
</ows:Get>
<!-- add KVP binding in 10.1 -->
<ows:Get xlink:href="https://gis2.msk.cz/arcgis/rest/services/UP/UP_08_PredpokladaneZaboryZPF/MapServer/WMTS?">
<ows:Constraint name="GetEncoding">
<ows:AllowedValues>
<ows:Value>KVP</ows:Value>
</ows:AllowedValues>
</ows:Constraint>
</ows:Get>
</ows:HTTP>
</ows:DCP>
</ows:Operation>
<ows:Operation name="GetTile">
<ows:DCP>
<ows:HTTP>
<ows:Get xlink:href="https://gis2.msk.cz/arcgis/rest/services/UP/UP_08_PredpokladaneZaboryZPF/MapServer/WMTS/tile/1.0.0/">
<ows:Constraint name="GetEncoding">
<ows:AllowedValues>
<ows:Value>RESTful</ows:Value>
</ows:AllowedValues>
</ows:Constraint>
</ows:Get>
<ows:Get xlink:href="https://gis2.msk.cz/arcgis/rest/services/UP/UP_08_PredpokladaneZaboryZPF/MapServer/WMTS?">
<ows:Constraint name="GetEncoding">
<ows:AllowedValues>
<ows:Value>KVP</ows:Value>
</ows:AllowedValues>
</ows:Constraint>
</ows:Get>
</ows:HTTP>
</ows:DCP>
</ows:Operation>
</ows:OperationsMetadata> <Contents>
<!--Layer--> <Layer>
<ows:Title>UP_UP_08_PredpokladaneZaboryZPF</ows:Title> <ows:Identifier>UP_UP_08_PredpokladaneZaboryZPF</ows:Identifier>
<ows:BoundingBox crs="urn:ogc:def:crs:EPSG::5514">
<ows:LowerCorner>-525000.0 -1077999.90489966</ows:LowerCorner>
<ows:UpperCorner>-519391.1999996735 -1072869.1049008546</ows:UpperCorner>
</ows:BoundingBox> <ows:WGS84BoundingBox crs="urn:ogc:def:crs:OGC:2:84">
<ows:LowerCorner>17.493200775196563 50.00287612993834</ows:LowerCorner>
<ows:UpperCorner>17.577947560826296 50.05360026620743</ows:UpperCorner>
</ows:WGS84BoundingBox>
<Style isDefault="true">
<ows:Title>Default Style</ows:Title>
<ows:Identifier>default</ows:Identifier>
</Style>
<Format>image/jpgpng</Format>
<TileMatrixSetLink>
<TileMatrixSet>default028mm</TileMatrixSet>
</TileMatrixSetLink>
<ResourceURL format="image/jpgpng" resourceType="tile" template="https://gis2.msk.cz/arcgis/rest/services/UP/UP_08_PredpokladaneZaboryZPF/MapServer/WMTS/tile/1.0.0/UP_UP_08_PredpokladaneZaboryZPF/{Style}/{TileMatrixSet}/{TileMatrix}/{TileRow}/{TileCol}" />
</Layer> <!--TileMatrixSet-->
<TileMatrixSet>
<ows:Title>TileMatrix using 0.28mm</ows:Title>
<ows:Abstract>The tile matrix set that has scale values calculated based on the dpi defined by OGC specification (dpi assumes 0.28mm as the physical distance of a pixel).</ows:Abstract> <ows:Identifier>default028mm</ows:Identifier>
<ows:SupportedCRS>urn:ogc:def:crs:EPSG::5514</ows:SupportedCRS>
<TileMatrix>
<ows:Identifier>0</ows:Identifier>
<ScaleDenominator>3657607.3152141706</ScaleDenominator>
<TopLeftCorner>-3.36998E7 3.36998E7</TopLeftCorner> <TileWidth>256</TileWidth> <TileHeight>256</TileHeight>
<MatrixWidth>127</MatrixWidth> <MatrixHeight>133</MatrixHeight>
</TileMatrix>
<TileMatrix>
<ows:Identifier>1</ows:Identifier>
<ScaleDenominator>1828803.6576070853</ScaleDenominator>
<TopLeftCorner>-3.36998E7 3.36998E7</TopLeftCorner> <TileWidth>256</TileWidth> <TileHeight>256</TileHeight>
<MatrixWidth>254</MatrixWidth> <MatrixHeight>266</MatrixHeight>
</TileMatrix>
<TileMatrix>
<ows:Identifier>2</ows:Identifier>
<ScaleDenominator>914401.8288035427</ScaleDenominator>
<TopLeftCorner>-3.36998E7 3.36998E7</TopLeftCorner> <TileWidth>256</TileWidth> <TileHeight>256</TileHeight>
<MatrixWidth>507</MatrixWidth> <MatrixHeight>531</MatrixHeight>
</TileMatrix>
<TileMatrix>
<ows:Identifier>3</ows:Identifier>
<ScaleDenominator>457200.9144017713</ScaleDenominator>
<TopLeftCorner>-3.36998E7 3.36998E7</TopLeftCorner> <TileWidth>256</TileWidth> <TileHeight>256</TileHeight>
<MatrixWidth>1013</MatrixWidth> <MatrixHeight>1062</MatrixHeight>
</TileMatrix>
<TileMatrix>
<ows:Identifier>4</ows:Identifier>
<ScaleDenominator>228600.45720088566</ScaleDenominator>
<TopLeftCorner>-3.36998E7 3.36998E7</TopLeftCorner> <TileWidth>256</TileWidth> <TileHeight>256</TileHeight>
<MatrixWidth>2025</MatrixWidth> <MatrixHeight>2123</MatrixHeight>
</TileMatrix>
<TileMatrix>
<ows:Identifier>5</ows:Identifier>
<ScaleDenominator>114300.22860044283</ScaleDenominator>
<TopLeftCorner>-3.36998E7 3.36998E7</TopLeftCorner> <TileWidth>256</TileWidth> <TileHeight>256</TileHeight>
<MatrixWidth>4050</MatrixWidth> <MatrixHeight>4245</MatrixHeight>
</TileMatrix>
<TileMatrix>
<ows:Identifier>6</ows:Identifier>
<ScaleDenominator>57150.114300221416</ScaleDenominator>
<TopLeftCorner>-3.36998E7 3.36998E7</TopLeftCorner> <TileWidth>256</TileWidth> <TileHeight>256</TileHeight>
<MatrixWidth>8100</MatrixWidth> <MatrixHeight>8490</MatrixHeight>
</TileMatrix>
<TileMatrix>
<ows:Identifier>7</ows:Identifier>
<ScaleDenominator>28575.057150110708</ScaleDenominator>
<TopLeftCorner>-3.36998E7 3.36998E7</TopLeftCorner> <TileWidth>256</TileWidth> <TileHeight>256</TileHeight>
<MatrixWidth>16200</MatrixWidth> <MatrixHeight>16980</MatrixHeight>
</TileMatrix>
<TileMatrix>
<ows:Identifier>8</ows:Identifier>
<ScaleDenominator>14287.528575055354</ScaleDenominator>
<TopLeftCorner>-3.36998E7 3.36998E7</TopLeftCorner> <TileWidth>256</TileWidth> <TileHeight>256</TileHeight>
<MatrixWidth>32399</MatrixWidth> <MatrixHeight>33959</MatrixHeight>
</TileMatrix>
<TileMatrix>
<ows:Identifier>9</ows:Identifier>
<ScaleDenominator>7143.764287527677</ScaleDenominator>
<TopLeftCorner>-3.36998E7 3.36998E7</TopLeftCorner> <TileWidth>256</TileWidth> <TileHeight>256</TileHeight>
<MatrixWidth>64798</MatrixWidth> <MatrixHeight>67917</MatrixHeight>
</TileMatrix>
<TileMatrix>
<ows:Identifier>10</ows:Identifier>
<ScaleDenominator>3571.8821437638385</ScaleDenominator>
<TopLeftCorner>-3.36998E7 3.36998E7</TopLeftCorner> <TileWidth>256</TileWidth> <TileHeight>256</TileHeight>
<MatrixWidth>129595</MatrixWidth> <MatrixHeight>135834</MatrixHeight>
</TileMatrix>
<TileMatrix>
<ows:Identifier>11</ows:Identifier>
<ScaleDenominator>1785.9410718819192</ScaleDenominator>
<TopLeftCorner>-3.36998E7 3.36998E7</TopLeftCorner> <TileWidth>256</TileWidth> <TileHeight>256</TileHeight>
<MatrixWidth>259190</MatrixWidth> <MatrixHeight>271668</MatrixHeight>
</TileMatrix>
<TileMatrix>
<ows:Identifier>12</ows:Identifier>
<ScaleDenominator>892.9705359409596</ScaleDenominator>
<TopLeftCorner>-3.36998E7 3.36998E7</TopLeftCorner> <TileWidth>256</TileWidth> <TileHeight>256</TileHeight>
<MatrixWidth>518379</MatrixWidth> <MatrixHeight>543335</MatrixHeight>
</TileMatrix>
</TileMatrixSet>
</Contents>
<ServiceMetadataURL xlink:href="https://gis2.msk.cz/arcgis/rest/services/UP/UP_08_PredpokladaneZaboryZPF/MapServer/WMTS/1.0.0/WMTSCapabilities.xml" /> </Capabilities>
